BEGIN:VCALENDAR
VERSION:2.0
PRODID:-//Waldorfct - ECPv6.15.20//NONSGML v1.0//EN
CALSCALE:GREGORIAN
METHOD:PUBLISH
X-ORIGINAL-URL:https://waldorfct.org
X-WR-CALDESC:Events for Waldorfct
REFRESH-INTERVAL;VALUE=DURATION:PT1H
X-Robots-Tag:noindex
X-PUBLISHED-TTL:PT1H
BEGIN:VTIMEZONE
TZID:UTC
BEGIN:STANDARD
TZOFFSETFROM:+0000
TZOFFSETTO:+0000
TZNAME:UTC
DTSTART:20250101T000000
END:STANDARD
END:VTIMEZONE
BEGIN:VEVENT
DTSTART;VALUE=DATE:20260119
DTEND;VALUE=DATE:20260120
DTSTAMP:20260421T100318
CREATED:20260115T195300Z
LAST-MODIFIED:20260115T195300Z
UID:22058-1768780800-1768867199@waldorfct.org
SUMMARY:School Closed - MLK Jr.
DESCRIPTION:
URL:https://waldorfct.org/event/school-closed-mlk-jr/
END:VEVENT
END:VCALENDAR